BEGIN:VCALENDAR
VERSION:2.0
PRODID:-//eventon.com NONSGML v1.0//EN
CALSCALE:GREGORIAN
METHOD:PUBLISH
BEGIN:VEVENT
UID:69ecb7901b241
DTSTAMP:20260425T124608Z
DTSTART:20260721T103000Z
DTEND:20260721T140000Z
LOCATION:De Bank van Noppes Zusterstraat 19
SUMMARY:AI Café
DESCRIPTION:Op 21 juli 2026 organiseren wij bij ons op kantoor een AI Café
 . Het belangrijkste doel: leren van elkaar door het delen van praktische to
 epassingen\,  gebaseerd op eigen experimenten met alles wat met AI te maken
  heeft. In onze spring release verwachten wij\,  naast de huidige mogelijkh
 eden op dit gebied\, [..]\nhttps://manualmaster.com/events/ai-cafe/
URL:https://manualmaster.com/events/ai-cafe/
END:VEVENT
END:VCALENDAR